BEGIN:VCALENDAR
VERSION:2.0
PRODID:-//Squarespace Inc/Squarespace 6//v6//EN
BEGIN:VEVENT
UID:5b5d005003ce64f3c825673c@squarespace.com
DTSTAMP:20180728T235111Z
DTSTART:20180811T103000Z
DTEND:20180811T123000Z
SUMMARY:All Star Disco
GEO:-31.901062;115.804749
LOCATION:All Star Dance & Performance\, 10/15 Carbon Court\, Osborne Park\, 
 Australia
END:VEVENT
END:VCALENDAR
