BEGIN:VCALENDAR
VERSION:2.0
PRODID:-//Squarespace Inc/Squarespace 6//v6//EN
BEGIN:VEVENT
UID:5a5ca4ad4192027c06597aea@squarespace.com
DTSTAMP:20180115T125804Z
DTSTART:20180120T013000Z
DTEND:20180120T023000Z
SUMMARY:Enrolment Power Hour
END:VEVENT
END:VCALENDAR
