BEGIN:VCALENDAR
VERSION:2.0
PRODID:-//Squarespace Inc/Squarespace 6//v6//EN
BEGIN:VEVENT
UID:58f99ccbb3db2b7583c18c98@squarespace.com
DTSTAMP:20170421T054839Z
DTSTART:20170422T060000Z
DTEND:20170505T070000Z
SUMMARY:Bring a Friend
END:VEVENT
END:VCALENDAR
