BEGIN:VCALENDAR
VERSION:2.0
PRODID:-//Squarespace Inc/Squarespace 6//v6//EN
BEGIN:VEVENT
UID:58c63eb7d2b8573ccafd2627@squarespace.com
DTSTAMP:20170313T064102Z
DTSTART:20170318T100000Z
DTEND:20170318T150000Z
SUMMARY:FREE MOVIE NIGHT
END:VEVENT
END:VCALENDAR
