BEGIN:VCALENDAR
VERSION:2.0
PRODID:-//Squarespace Inc/Squarespace 6//v6//EN
BEGIN:VEVENT
UID:59f73a820d9297c2262d837b@squarespace.com
DTSTAMP:20171030T144756Z
DTSTART:20171112T073000Z
DTEND:20171112T093000Z
SUMMARY:Bad Moms 2
END:VEVENT
END:VCALENDAR
