BEGIN:VCALENDAR
VERSION:2.0
PRODID:-//Squarespace Inc/Squarespace 6//v6//EN
BEGIN:VEVENT
UID:59e928fb32601eb275d9aa27@squarespace.com
DTSTAMP:20171030T144950Z
DTSTART:20171019T230000Z
DTEND:20171203T000000Z
SUMMARY:All Star 2017 Concert Tickets - Better When I'm Dancing
END:VEVENT
END:VCALENDAR
