BEGIN:VCALENDAR
VERSION:2.0
PRODID:-//Squarespace Inc/Squarespace 6//v6//EN
BEGIN:VEVENT
UID:588b4af03e00be9b899a529a@squarespace.com
DTSTAMP:20170127T133120Z
DTSTART:20170127T133000Z
DTEND:20170228T143000Z
SUMMARY:Term 1 2017
END:VEVENT
END:VCALENDAR
