BEGIN:VCALENDAR
VERSION:2.0
PRODID:-//Squarespace Inc/Squarespace 6//v6//EN
BEGIN:VEVENT
UID:583028b4cd0f68271081d380@squarespace.com
DTSTAMP:20161119T131627Z
DTSTART:20161204T180000Z
DTEND:20161205T210000Z
SUMMARY:ALL STAR DANCE PRESENTS CAN’T STOP THE FEELING
GEO:-32.016;115.762
LOCATION:St Hildas Performing Arts Centre\, Mosman Park Perth\, WA 6012\, A
 ustralia
END:VEVENT
END:VCALENDAR
