BEGIN:VCALENDAR
VERSION:2.0
PRODID:-//Squarespace Inc/Squarespace 6//v6//EN
BEGIN:VEVENT
UID:585b33e9e3df282d7b357ee2@squarespace.com
DTSTAMP:20170109T120354Z
DTSTART:20161222T023000Z
DTEND:20170131T153000Z
SUMMARY:ENROLMENTS
END:VEVENT
END:VCALENDAR
