BEGIN:VCALENDAR
VERSION:2.0
PRODID:-//Squarespace Inc/Squarespace 6//v6//EN
BEGIN:VEVENT
UID:58303921be6594ec6bf83c76@squarespace.com
DTSTAMP:20161119T114028Z
DTSTART:20161211T150000Z
DTEND:20161213T230000Z
SUMMARY:STUDIO WINDUP – ADVENTURE WORLD
GEO:-32.099207;115.821269
LOCATION:Adventure World\, 351 Progress Drive\, Bibra Lake\, WA\, 6163\, Au
 stralia
END:VEVENT
END:VCALENDAR
