BEGIN:VCALENDAR
VERSION:2.0
PRODID:-//Squarespace Inc/Squarespace 6//v6//EN
BEGIN:VEVENT
UID:58303a3f414fb5e9ba98831b@squarespace.com
DTSTAMP:20161222T020055Z
DTSTART:20161223T080000Z
DTEND:20161223T100000Z
SUMMARY:DVD ORDER COLLECTION – ALL STAR DANCE “CAN’T STOP THE FEELING
END:VEVENT
END:VCALENDAR
